BEGIN:VCALENDAR
VERSION:2.0
PRODID:-//Squarespace Inc/Squarespace 6//v6//EN
BEGIN:VEVENT
UID:59adf145197aeadddee7567d@squarespace.com
DTSTAMP:20180209T022445Z
DTSTART:20180223T230000Z
DTEND:20180225T215959Z
SUMMARY:Bev Chote Classic Tournament
END:VEVENT
END:VCALENDAR
