BEGIN:VCALENDAR
VERSION:2.0
PRODID:-//Squarespace Inc/Squarespace 6//v6//EN
BEGIN:VEVENT
UID:59add246f7e0ab08ae4eedff@squarespace.com
DTSTAMP:20170904T223534Z
DTSTART:20170916T220000Z
DTEND:20170917T035900Z
SUMMARY:Golden Homes Black Sox Celebration Dinner
GEO:-36.893304;174.774444
LOCATION:Top of the Park\, Alexandra Park\, Green Lane West Road and Manuka
 u Road\, Greenlane\, Auckland\, New Zealand
END:VEVENT
END:VCALENDAR
