BEGIN:VCALENDAR
VERSION:2.0
PRODID:-//Squarespace Inc/Squarespace 6//v6//EN
BEGIN:VEVENT
UID:5958b58b9f74562cf8ee7dfb@squarespace.com
DTSTAMP:20170711T070643Z
DTSTART:20170716T090000Z
DTEND:20170718T020000Z
SUMMARY:Menu
END:VEVENT
END:VCALENDAR
