BEGIN:VCALENDAR
VERSION:2.0
PRODID:-//Squarespace Inc/Squarespace 6//v6//EN
BEGIN:VEVENT
UID:596413b0e4fcb58b9fad87dc@squarespace.com
DTSTAMP:20170710T235857Z
DTSTART:20170717T220000Z
DTEND:20170717T230000Z
SUMMARY:POD Awards 
END:VEVENT
END:VCALENDAR
