BEGIN:VCALENDAR
VERSION:2.0
PRODID:-//Squarespace Inc/Squarespace 6//v6//EN
BEGIN:VEVENT
UID:59641749893fc05a5b2c982c@squarespace.com
DTSTAMP:20170904T221914Z
DTSTART:20170714T003000Z
DTEND:20170716T013000Z
SUMMARY:Bar Open
GEO:-36.882591;174.735469
LOCATION:Ramblers Softball Club\, Cornwallis Street\, Mount Albert\, Auckla
 nd\, New Zealand
END:VEVENT
END:VCALENDAR
