BEGIN:VCALENDAR
VERSION:2.0
PRODID:-//Squarespace Inc/Squarespace 6//v6//EN
BEGIN:VEVENT
UID:59adef4212abd94ce6523099@squarespace.com
DTSTAMP:20170905T002759Z
DTSTART:20170912T190000Z
DTEND:20170913T000000Z
SUMMARY:Bar Open
GEO:-36.882591;174.735469
LOCATION:Ramblers Softball Club\, Cornwallis Street\, Mount Albert\, Auckla
 nd\, New Zealand
END:VEVENT
END:VCALENDAR
