BEGIN:VCALENDAR
VERSION:2.0
PRODID:-//Squarespace Inc/Squarespace 6//v6//EN
BEGIN:VEVENT
UID:59adf0b5f14aa16da6c2b807@squarespace.com
DTSTAMP:20170905T003402Z
DTSTART:20170926T190000Z
DTEND:20170927T000000Z
SUMMARY:Bar Open
GEO:-36.882591;174.735469
LOCATION:Ramblers Softball Club\, Cornwallis Street\, Mount Albert\, Auckla
 nd\, New Zealand
END:VEVENT
END:VCALENDAR
