BEGIN:VCALENDAR
VERSION:2.0
PRODID:-//Squarespace Inc/Squarespace 6//v6//EN
BEGIN:VEVENT
UID:59adf0a7a803bb10beffd1d8@squarespace.com
DTSTAMP:20170905T003330Z
DTSTART:20170919T190000Z
DTEND:20170920T000000Z
SUMMARY:Bar Open
GEO:-36.882591;174.735469
LOCATION:Ramblers Softball Club\, Cornwallis Street\, Mount Albert\, Auckla
 nd\, New Zealand
END:VEVENT
END:VCALENDAR
