BEGIN:VCALENDAR
VERSION:2.0
PRODID:-//Squarespace Inc/Squarespace 6//v6//EN
BEGIN:VEVENT
UID:59adefa2914e6b4040a563d7@squarespace.com
DTSTAMP:20170907T025401Z
DTSTART:20170914T200000Z
DTEND:20170917T020000Z
SUMMARY:Bar Open
GEO:-36.882591;174.735469
LOCATION:Ramblers Softball Club\, Cornwallis Street\, Mount Albert\, Auckla
 nd\, New Zealand
END:VEVENT
END:VCALENDAR
