BEGIN:VCALENDAR
VERSION:2.0
PRODID:-//Squarespace Inc/Squarespace 6//v6//EN
BEGIN:VEVENT
UID:596415e878d171ed79bf96ea@squarespace.com
DTSTAMP:20170711T001213Z
DTSTART:20170711T200000Z
DTEND:20170711T230000Z
SUMMARY:Bar Open 
GEO:-36.882591;174.735469
LOCATION:Ramblers Softball Club\, Cornwallis Street\, Mount Albert\, Auckla
 nd\, NEw Zealand
END:VEVENT
END:VCALENDAR
