BEGIN:VCALENDAR
VERSION:2.0
PRODID:-//Squarespace Inc/Squarespace 6//v6//EN
BEGIN:VEVENT
UID:593a2bf803596e9ea176041f@squarespace.com
DTSTAMP:20170711T001300Z
DTSTART:20170727T210000Z
DTEND:20170728T020000Z
SUMMARY:Auckland Softball Association - Night at the Races
GEO:-36.893304;174.774444
LOCATION:Alexander Park\, Cnr Greenlane West & Manukau Road\, Epsom\, Auckl
 and\, New Zealand
END:VEVENT
END:VCALENDAR
