BEGIN:VCALENDAR
VERSION:2.0
PRODID:-//Squarespace Inc/Squarespace 6//v6//EN
BEGIN:VEVENT
UID:59b0b2f1f7e0abc0cf1744c3@squarespace.com
DTSTAMP:20170907T025225Z
DTSTART:20171104T220000Z
DTEND:20171105T035900Z
SUMMARY:Start of Season Bash
GEO:-36.88331;174.736617
LOCATION:Ramblers Softball Club\, Warren Freer Park\, Cornwallis Street\, A
 uckland\, New Zealand
END:VEVENT
END:VCALENDAR
