BEGIN:VCALENDAR
VERSION:2.0
PRODID:-//Squarespace Inc/Squarespace 6//v6//EN
BEGIN:VEVENT
UID:59adf46a37c581dc356a8dd0@squarespace.com
DTSTAMP:20170905T005027Z
DTSTART:20171125T020000Z
DTEND:20171127T030000Z
SUMMARY:Rock Chote Classic Tornament
GEO:-36.88331;174.736617
LOCATION:Ramblers Softball Club\, Warren Freer Park\, Cornwallis Street\, S
 t Lukes\, Auckland\, New Zealand
END:VEVENT
END:VCALENDAR
