BEGIN:VCALENDAR
VERSION:2.0
PRODID:-//Squarespace Inc/Squarespace 6//v6//EN
BEGIN:VEVENT
UID:59d2d5e02278e74c1cd68088@squarespace.com
DTSTAMP:20171003T002022Z
DTSTART:20171020T130000Z
DTEND:20171023T220000Z
SUMMARY:Waitakere Bears Annual Classic Tournament
GEO:-36.858116;174.604409
LOCATION:Starling Park\, 34-44 Glen Road\, Auckland\, Auckland\, 0612\, New 
 Zealand
END:VEVENT
END:VCALENDAR
